BEGIN:VCALENDAR
VERSION:2.0
PRODID:-//Tukios.com/
BEGIN:VEVENT
UID:41d4c551-780d-4cc9-8829-6b2c82b6172f@www.krisefamilyfuneralhomes.com
DTSTAMP:20260419T130007Z
DTSTART:20260424T140000Z
DTEND:20260424T150000Z
SUMMARY:Mass of Christian Burial
DESCRIPTION:
URL:https://www.krisefamilyfuneralhomes.com/obituaries/carmen-dragone
LOCATION:Holy Rosary Church 606 Penn Street  Johnsonburg PA 15845
GEO:41.4880684;-78.6740422
END:VEVENT
END:VCALENDAR