BEGIN:VCALENDAR
VERSION:2.0
PRODID:-//Tukios.com/
BEGIN:VEVENT
UID:f3e03111-649e-482d-937a-847616fde7e5@www.krisefamilyfuneralhomes.com
DTSTAMP:20260419T125843Z
DTSTART:20260423T210000Z
DTEND:20260423T230000Z
SUMMARY:Public Viewing
DESCRIPTION:
URL:https://www.krisefamilyfuneralhomes.com/obituaries/carmen-dragone
LOCATION:Krise Funeral Home 130 Center Street  Ridgway PA 15853
GEO:41.4199928;-78.7309144
END:VEVENT
END:VCALENDAR